BEGIN:VCALENDAR
VERSION:2.0
METHOD:REQUEST
PRODID:-//ddaysoftware//NONSGML DDay.iCal 1.0//EN
BEGIN:VTIMEZONE
TZID:UTC
BEGIN:STANDARD
DTSTART;VALUE=DATE:19000101
TZNAME:UTC
TZOFFSETFROM:+0000
TZOFFSETTO:+0000
END:STANDARD
END:VTIMEZONE
BEGIN:VEVENT
DESCRIPTION:During the month of May\, the American Counseling Association (
 ACA) joins the national movement to raise awareness about mental health. E
 stablished in 1949\, Mental Health Month sought to put a spotlight on the 
 importance of mental health and wellness. Each year we continue to fight a
 gainst the stigma associated with mental health\, provide support for thos
 e with mental illness and the counselors supporting them\, as well as advo
 cate for policies on behalf of those with mental illness and their loved o
 nes.\n\nMAY IS MENTAL HEALTH AWARENESS MONTHDuring the month of May\, the 
 American Counseling Association (ACA) joins the national movement to raise
  awareness about mental health. Established in 1949\, Mental Health Month 
 sought to put a spotlight on the importance of mental health and wellness.
  Each year we continue to fight against the stigma associated with mental 
 health\, provide support for those with mental illness and the counselors 
 supporting them\, as well as advocate on behalf of those with mental illne
 ss and their loved ones.While 1 in 5 people will experience mental illness
  over the course of their lifetimes\, everyone will face challenges that c
 an and will affect their mental health. Licensed professional counselors p
 lay a critical role in providing care and guidance for those who struggle 
 with mental health. ACA members all across the country are dedicated to as
 sisting anyone who is struggling with mental health.We encourage you to jo
 in us as we highlight the significance of mental health awareness and how 
 counselors are able to help!Click here ----> https://www.counseling.org/me
 ntal-health-counseling/observances/mental-health-awareness-month\n\n
DTEND;VALUE=DATE:20260502
DTSTAMP:20260414T171839Z
DTSTART;VALUE=DATE:20260501
LAST-MODIFIED:20260414T171839Z
LOCATION:
ORGANIZER;CN="Marcie Burger, LPC via Home":MAILTO:6884852b-0474-4ae0-8e27-c
 2ef85ed2130.21@cce.igloodigitalworkplace.com
RECURRENCE-ID;VALUE=DATE:20260501
SEQUENCE:2
SUMMARY:Mental Health Month
UID:6884852b-0474-4ae0-8e27-c2ef85ed2130
X-ALT-DESC;FMTTYPE=text/html;FMTTYPE=text/html:During the month of May\, th
 e American Counseling Association (ACA) joins the national movement to rai
 se awareness about mental health. Established in 1949\, Mental Health Mont
 h sought to put a spotlight on the importance of mental health and wellnes
 s. Each year we continue to fight against the stigma associated with menta
 l health\, provide support for those with mental illness and the counselor
 s supporting them\, as well as advocate for policies on behalf of those wi
 th mental illness and their loved ones.\n\n<hr/><div><p><strong>MAY IS MEN
 TAL HEALTH AWARENESS MONTH</strong></p><p>During the month of May\, the Am
 erican Counseling Association (ACA) joins the national movement to raise a
 wareness about mental health. Established in 1949\, Mental Health Month so
 ught to put a spotlight on the importance of <a href="https://www.counseli
 ng.org/knowledge-center/mental-health-resources">mental health and wellnes
 s</a>. Each year we continue to fight against the stigma associated with m
 ental health\, provide support for those with mental illness and the couns
 elors supporting them\, as well as advocate on behalf of those with mental
  illness and their loved ones.</p><p>While 1 in 5 people will experience m
 ental illness over the course of their lifetimes\, everyone will face chal
 lenges that can and will affect their mental health. Licensed professional
  counselors play a critical role in providing care and guidance for those 
 who struggle with mental health. ACA members all across the country are de
 dicated to assisting anyone who is struggling with mental health.</p><p>We
  encourage you to join us as we highlight the significance of mental healt
 h awareness and how counselors are able to help!</p><p>Click here ----&gt\
 ; <a data-fr-linked="true" href="https://www.counseling.org/mental-health-
 counseling/observances/mental-health-awareness-month" id="isPasted">https:
 //www.counseling.org/mental-health-counseling/observances/mental-health-aw
 areness-month</a></p></div>\n\n
END:VEVENT
END:VCALENDAR
