BEGIN:VCALENDAR
VERSION:2.0
METHOD:REQUEST
PRODID:-//ddaysoftware//NONSGML DDay.iCal 1.0//EN
BEGIN:VTIMEZONE
TZID:US Mountain Standard Time
BEGIN:STANDARD
DTSTART;VALUE=DATE:19000101
TZNAME:US Mountain Standard Time
TZOFFSETFROM:-0700
TZOFFSETTO:-0700
END:STANDARD
END:VTIMEZONE
BEGIN:VEVENT
DESCRIPTION:The Graduate Counseling Department is sponsoring Dr. Howard Ros
 enthal who will present Tips for Taking the NCE.  He is the author of The 
 Encyclopedia of Counseling\, The Authentic Purple Book\, 4th Edition\, the
  best-selling counseling exam prep book in history and the Master Lecture 
 Series for the NCE\, CPCE\, and CECE\, the Orange Book\, based on the best
 -selling audio program of all-time!\n\nDr. Howard Rosenthal-NCE Study Tips
  Presentation Tuesday\, 4/21/266 - 7:30 pm AZ timeJoin from PC\, Mac\, iOS
  or Android: https://gcu.zoom.us/j/97779828758?pwd=cNcHLm8we7bMASzNqafgjge
 3aKZFB9.1      Password: 327800   Or join by phone:    +1 646 558 8656 or 
 +1 646 931 3860 US Toll     Meeting ID: 977 7982 8758     International nu
 mbers available: https://gcu.zoom.us/u/aeGQZfQRfw Should you require assis
 tance using this technology\, please call Zoom at (888) 799-9666 Ext. 2 fr
 om 6AM to 5PM PST\, Monday through Friday.\n\n
DTEND;TZID=US Mountain Standard Time:20260421T193000
DTSTAMP:20260417T175131Z
DTSTART;TZID=US Mountain Standard Time:20260421T180000
LAST-MODIFIED:20260417T175131Z
LOCATION:
ORGANIZER;CN="Marcie Burger, LPC via Home":MAILTO:516e9943-b96c-4618-b131-5
 3ab19ed569a.21@cce.igloodigitalworkplace.com
SEQUENCE:4
SUMMARY:Dr. Howard Rosenthal-NCE Study Tips Presentation
UID:516e9943-b96c-4618-b131-53ab19ed569a
X-ALT-DESC;FMTTYPE=text/html;FMTTYPE=text/html:The Graduate Counseling Depa
 rtment is sponsoring Dr. Howard Rosenthal who will present Tips for Taking
  the NCE.  He is the author of The Encyclopedia of Counseling\, The Authen
 tic Purple Book\, 4th Edition\, the best-selling counseling exam prep book
  in history and the Master Lecture Series for the NCE\, CPCE\, and CECE\, 
 the Orange Book\, based on the best-selling audio program of all-time!\n\n
 <hr/><div><p><strong><u>Dr. Howard Rosenthal-NCE Study Tips Presentation</
 u></strong></p><p> <strong>Tuesday\, 4/21/26</strong></p><p><strong>6 - 7:
 30 pm AZ time</strong></p><p>Join from PC\, Mac\, iOS or Android: <a href=
 "https://gcu.zoom.us/j/97779828758?pwd=cNcHLm8we7bMASzNqafgjge3aKZFB9.1">h
 ttps://gcu.zoom.us/j/97779828758?pwd=cNcHLm8we7bMASzNqafgjge3aKZFB9.1</a> 
 <br/>     Password: 327800<br/>  <br/> Or join by phone:</p><p>    +1 646 
 558 8656 or +1 646 931 3860 US Toll<br/>     Meeting ID: 977 7982 8758<br/
 >     International numbers available: <a href="https://gcu.zoom.us/u/aeGQ
 ZfQRfw">https://gcu.zoom.us/u/aeGQZfQRfw</a><br/> Should you require assis
 tance using this technology\, please call Zoom<br/> at (888) 799-9666 Ext.
  2 from 6AM to 5PM PST\, Monday through Friday.</p></div>\n\n
END:VEVENT
END:VCALENDAR
